BEGIN:VCALENDAR
VERSION:2.0
PRODID:Fort Smith, AR Calendar Creator
METHOD:PUBLISH
BEGIN:VEVENT
DTSTAMP:20260106T100600
DTSTART:20260713T113000
DTEND:20260713T235900
SUMMARY:Future Fort Smith Meeting
DESCRIPTION:
X-ALT-DESC;FMTTYPE=text/html:
LOCATION:The Blue Lion\, 101 N 2nd St Fort Smith\, Arkansas 72901
CLASS:PUBLIC
END:VEVENT
END:VCALENDAR
