BEGIN:VCALENDAR
VERSION:2.0
PRODID:Fort Smith, AR Calendar Creator
METHOD:PUBLISH
BEGIN:VEVENT
DTSTAMP:20260401T160333
DTSTART:20260409T180000
DTEND:20260409T235900
SUMMARY:Audit Advisory Committee Meeting
DESCRIPTION:
X-ALT-DESC;FMTTYPE=text/html:
LOCATION:The Blue Lion\, 101 N 2nd St Fort Smith\, Arkansas 72901
CLASS:PUBLIC
END:VEVENT
END:VCALENDAR
