BEGIN:VCALENDAR
VERSION:2.0
PRODID:Fort Smith, AR Calendar Creator
METHOD:PUBLISH
BEGIN:VEVENT
DTSTAMP:20260410T131842
DTSTART:20260413T110000
DTEND:20260413T235900
SUMMARY:Property Owners Appeal Board Meeting
DESCRIPTION:
X-ALT-DESC;FMTTYPE=text/html:
LOCATION:The Blue Lion\, 101 N 2nd St Fort Smith\, Arkansas 72901
CLASS:PUBLIC
END:VEVENT
END:VCALENDAR
