BEGIN:VCALENDAR
VERSION:2.0
PRODID:Fort Smith, AR Calendar Creator
METHOD:PUBLISH
BEGIN:VEVENT
DTSTAMP:20251208T124654
DTSTART:20260414T173000
DTEND:20260414T235900
SUMMARY:April 2026 PC Meeting
DESCRIPTION:
X-ALT-DESC;FMTTYPE=text/html:
LOCATION:The Blue Lion\, 101 N 2nd St Fort Smith\, Arkansas 72901
CLASS:PUBLIC
END:VEVENT
END:VCALENDAR
