BEGIN:VCALENDAR
VERSION:2.0
PRODID:Fort Smith, AR Calendar Creator
METHOD:PUBLISH
BEGIN:VEVENT
DTSTAMP:20260409T162644
DTSTART:20260414T180000
DTEND:20260414T235900
SUMMARY:Board of Directors Study Session
DESCRIPTION:
X-ALT-DESC;FMTTYPE=text/html:
LOCATION:The Blue Lion\, 101 N 2nd St Fort Smith\, Arkansas 72901
CLASS:PUBLIC
END:VEVENT
END:VCALENDAR
